BEGIN:VCALENDAR
VERSION:2.0
PRODID:icalendar-ruby
CALSCALE:GREGORIAN
METHOD:PUBLISH
BEGIN:VTIMEZONE
TZID:Australia/Sydney
BEGIN:DAYLIGHT
DTSTART:20261004T030000
TZOFFSETFROM:+1000
TZOFFSETTO:+1100
RRULE:FREQ=YEARLY;BYDAY=1SU;BYMONTH=10
TZNAME:AEDT
END:DAYLIGHT
BEGIN:STANDARD
DTSTART:20260405T020000
TZOFFSETFROM:+1100
TZOFFSETTO:+1000
RRULE:FREQ=YEARLY;BYDAY=1SU;BYMONTH=4
TZNAME:AEST
END:STANDARD
END:VTIMEZONE
BEGIN:VEVENT
DTSTAMP:20260423T011712Z
UID:inspection_3009460
DTSTART;TZID=Australia/Sydney:20260425T151500
DTEND;TZID=Australia/Sydney:20260425T153000
CLASS:PUBLIC
CREATED:20260422T140848
DESCRIPTION: 
LAST-MODIFIED:20260422T140848
LOCATION:15A Braddon Street\, BLACKTOWN NSW 2148\, Australia
SUMMARY:15A Braddon Street\,  Inspection
URL;VALUE=URI:http://www.urbanere.com.au/
END:VEVENT
END:VCALENDAR
