BEGIN:VCALENDAR
VERSION:2.0
PRODID:icalendar-ruby
CALSCALE:GREGORIAN
METHOD:PUBLISH
BEGIN:VTIMEZONE
TZID:Australia/Sydney
BEGIN:DAYLIGHT
DTSTART:20261004T030000
TZOFFSETFROM:+1000
TZOFFSETTO:+1100
RRULE:FREQ=YEARLY;BYDAY=1SU;BYMONTH=10
TZNAME:AEDT
END:DAYLIGHT
BEGIN:STANDARD
DTSTART:20260405T020000
TZOFFSETFROM:+1100
TZOFFSETTO:+1000
RRULE:FREQ=YEARLY;BYDAY=1SU;BYMONTH=4
TZNAME:AEST
END:STANDARD
END:VTIMEZONE
BEGIN:VEVENT
DTSTAMP:20260425T040441Z
UID:inspection_3013305
DTSTART;TZID=Australia/Sydney:20260425T141524
DTEND;TZID=Australia/Sydney:20260425T143024
CLASS:PUBLIC
CREATED:20260425T120253
DESCRIPTION: 
LAST-MODIFIED:20260425T120253
LOCATION:11 / 24 Mons Road\, WESTMEAD NSW 2145\, Australia
SUMMARY:11 / 24 Mons Road\,  Inspection
URL;VALUE=URI:http://www.urbanere.com.au/
END:VEVENT
END:VCALENDAR
